BEGIN:VCALENDAR
METHOD:PUBLISH
PRODID:-//3634@www.region-coburg.tv//NONSGML iCalcreator 2.4.3//
VERSION:2.0
BEGIN:VEVENT
UID:3634-20160301201500-20160301000000@www.region-coburg.tv
DTSTAMP:20260419T213431Z
CONTACT:09561 / 239051
CREATED:20160223T192600Z
DESCRIPTION:Dieser elegante Film beschwört ein außergewöhnliches Dreieck
 s-Drama im New York der 50-er Jahre: die vornehme Carol findet mit der anm
 utigen Verkäuferin Therese die Liebe wieder - allerdings außerhalb ihrer
  Ehe. Diese Beziehung bringt prompt Carols Ehemann Harge in Rage\, der ein
 en Privatdetektiv auf die Spur der damals noch gesetzeswidrigen Liaison he
 tzt.VHS-Film der Woche\, Großbritannien/USA 2015 - Tickets: 09561 / 23905
 1
DTEND:20160301T000000
DTSTART:20160301T201500
LAST-MODIFIED:20160223T192600Z
LOCATION:Coburg\, Kino Utopolis
SUMMARY:Carol
X-IMAGE:http://www.region-coburg.tv/images/medium/vhs-film-1276db0f.jpg
END:VEVENT
END:VCALENDAR
