BEGIN:VCALENDAR
METHOD:PUBLISH
PRODID:-//3633@www.region-coburg.tv//NONSGML iCalcreator 2.4.3//
VERSION:2.0
BEGIN:VEVENT
UID:3633-20160224201500-20160224000000@www.region-coburg.tv
DTSTAMP:20260419T213427Z
CONTACT:09561 / 239051
CREATED:20160223T192300Z
DESCRIPTION:Zum Weltgebetstag„Una Noche“ bietet ein Gesamtpaket aus Aug
 enschmaus\, Rhythmus und packendem Drehbuch: Die Kubaner Raúl und Elio pl
 anen ihre Flucht vor der sozialistischen Castro-Diktatur nach Florida. All
 erdings kommt Elios Zwillingsschwester Lila ihren Vorbereitungen auf die S
 pur und beschließt sich dem Abenteuer der zwei Freunde anzuschließen.VHS
 -Film der Woche\, Kuba/USA/Großbritannien 2012 - Tickets: 09561 / 239051
DTEND:20160224T000000
DTSTART:20160224T201500
LAST-MODIFIED:20160223T192300Z
LOCATION:Coburg\, Kino Utopolis
SUMMARY:Una Noche - Eine Nacht in Havanna
X-IMAGE:http://www.region-coburg.tv/images/medium/vhs-film-1276db0f.jpg
END:VEVENT
END:VCALENDAR
