BEGIN:VCALENDAR
METHOD:PUBLISH
PRODID:-//3582@www.region-coburg.tv//NONSGML iCalcreator 2.4.3//
VERSION:2.0
BEGIN:VEVENT
UID:3582-20151209190000-20151209000000@www.region-coburg.tv
DTSTAMP:20260419T194338Z
CONTACT:09561 / 891420
CREATED:20151201T203600Z
DESCRIPTION:Friederike Schmöe liest: „Stille Nacht\, grausige Nacht'Wer 
 es in der Vorweihnachtszeit nicht so besinnlich braucht\, sollte sich am M
 ittwoch\, den 09. Dezember in der Stadtbücherei Coburg einfinden. Die in 
 Coburg geborene Autorin Friederike Schmöe liest aus ihrem frostigen Weihn
 achtskrimi „Stille Nacht\, grausige Nacht“. Und der beginnt mit einer 
 Autopanne im verschneiten Thüringer Wald … Für die musikalische weihna
 chtlich/unweihnachtliche Stimmung sorgt Oliver Herrmann am Saxofon. - Tick
 ets: 09561 / 891420
DTEND:20151209T000000
DTSTART:20151209T190000
LAST-MODIFIED:20151201T203600Z
LOCATION:Stadtbücherei
SUMMARY:Friedrike Schmöe
X-IMAGE:http://www.region-coburg.tv/images/medium/schmoehe-vh-463c73a3.jpg
END:VEVENT
END:VCALENDAR
