BEGIN:VCALENDAR
METHOD:PUBLISH
PRODID:-//3572@www.region-coburg.tv//NONSGML iCalcreator 2.4.3//
VERSION:2.0
BEGIN:VEVENT
UID:3572-20151120190000-20151120000000@www.region-coburg.tv
DTSTAMP:20260419T180126Z
CONTACT:09568 / 81-0
CREATED:20151117T204200Z
DESCRIPTION:Autoren der Region: 'Heidi Fischer“Am Freitag\, den 20. Novem
 ber ist die Coburger Autorin Heidi Fischer zu Gast in der Stadtbücherei N
 eustadt. 2014 veröffentlichte sie mit „Laufmaschen im Strickstrumpf“ 
 ihren ersten Roman\, in diesem Jahr erschien „Wer später stirbt\, ist l
 änger alt“\, ein Buch mit Kurzgeschichten. In Neustadt liest sie bei fr
 eiem Eintritt unbekannte\, heitere\, skurrile und nachdenkliche Texte. - T
 ickets: 09568 / 81-0
DTEND:20151120T000000
DTSTART:20151120T190000
LAST-MODIFIED:20151117T204200Z
LOCATION:Stadtbücherei Neustadt
SUMMARY:Autoren der Region
X-IMAGE:http://www.region-coburg.tv/images/medium/heidi-fischer-6da79dda.jp
 g
END:VEVENT
END:VCALENDAR
