BEGIN:VCALENDAR
METHOD:PUBLISH
PRODID:-//3561@www.region-coburg.tv//NONSGML iCalcreator 2.4.3//
VERSION:2.0
BEGIN:VEVENT
UID:3561-20160127201500-20160127000000@www.region-coburg.tv
DTSTAMP:20260419T213621Z
CONTACT:09561 / 239051
CREATED:20151107T171000Z
DESCRIPTION:Regie: Tankred DorstIn der Abgeschiedenheit der fränkisch-thü
 ringischen Region stößt in den 30er Jahren die unkonventionelle Lebenswe
 ise der neuen Bewohner auf Unverständnis bei den Alteingesessenen. Die Zu
 gezogenen\, Mutter und Tochter\, haben das größte Haus geerbt und ihre L
 ebensweise wird mit Argwohn wahrgenommen. Sie schlafen auf dem Boden\, sam
 meln Kräuter\, trocknen Früchte und sind als Kommunisten verrufen. Eines
  Tages taucht ein junger Pole auf und zieht bei den Frauen ein. Das einver
 nehmliche Zusammenleben von Mutter und Tochter gerät aus dem Lot\; Eifers
 ucht tritt an die Stelle der gemeinsam gelebten Utopie.VHS-Film der Woche\
 , BRD 1978 - Tickets: 09561 / 239051
DTEND:20160127T000000
DTSTART:20160127T201500
LAST-MODIFIED:20151107T171000Z
LOCATION:Coburg\, Kino Utopolis
SUMMARY:Klaras Mutter
X-IMAGE:http://www.region-coburg.tv/images/medium/vhs-film-1276db0f.jpg
END:VEVENT
END:VCALENDAR
