BEGIN:VCALENDAR
METHOD:PUBLISH
PRODID:-//3559@www.region-coburg.tv//NONSGML iCalcreator 2.4.3//
VERSION:2.0
BEGIN:VEVENT
UID:3559-20160126201500-20160126000000@www.region-coburg.tv
DTSTAMP:20260419T213539Z
CONTACT:09561 / 239051
CREATED:20151107T170600Z
DESCRIPTION:Regie: Tankred DorstDeutschland in den Jahren des Wirtschaftswu
 nders: Der junge Arno kehrt zurück nach Wuppertal\, da er Anteile an der 
 Fabrik seines Großvaters geerbt hat. Angetrieben vom Wunsch nach Verände
 rung und Neuerung\, widmet er sich seiner neuen Aufgabe\, stößt aber sof
 ort auf Widerstand. Mosch\, ein alter Prokurist\, möchte am Status Quo fe
 sthalten und widersetzt sich allen Veränderungen. Ein erbitterter Kampf e
 ntsteht\, bei dem die Firma irgendwann nebensächlich und der Generationen
 konflikt mit aller Wucht ausgetragen wird. Am Ende sind sie beide Verliere
 r: Arno verspielt alles\, was ihm einmal wichtig war\, und Mosch erliegt e
 inem Herzschlag.VHS-Film der Woche\, BRD 1980 - Tickets: 09561 / 239051
DTEND:20160126T000000
DTSTART:20160126T201500
LAST-MODIFIED:20151107T170600Z
LOCATION:Coburg\, Kino Utopolis
SUMMARY:Mosch
X-IMAGE:http://www.region-coburg.tv/images/medium/vhs-film-1276db0f.jpg
END:VEVENT
END:VCALENDAR
