BEGIN:VCALENDAR
METHOD:PUBLISH
PRODID:-//3558@www.region-coburg.tv//NONSGML iCalcreator 2.4.3//
VERSION:2.0
BEGIN:VEVENT
UID:3558-20160124110000-20160124000000@www.region-coburg.tv
DTSTAMP:20260419T213702Z
CONTACT:09561 / 239051
CREATED:20151107T170400Z
DESCRIPTION:Regie: Tankred DorstWegen seiner kräftigen Statur wird der ein
 fache LKW-Fahrer Hans Schroth „Eisenhans“ genannt. Mit seiner Frau Sop
 hie und seiner geistig zurückgebliebenen Tochter Marga lebt er im Niemand
 sland an der deutsch-deutschen Grenze. Zur geografischen Isolation kommt d
 ie soziale Ausgrenzung\, denn die Dorfbewohner lehnen seine jüngste Tocht
 er aufgrund ihrer geistigen Behinderung ab. Schroth flüchtet sich immer w
 eiter in seine Innenwelten und in eine nahezu manische Hingabe an Marga. D
 ie Situation eskaliert\, als ihn seine Frau und sein Umfeld des Inzests ve
 rdächtigen. Nach einem tätlichen Angriff auf seine Frau\, wird Eisenhans
  festgenommen.VHS-Film der Woche\, BRD 1983 - Tickets: 09561 / 239051
DTEND:20160124T000000
DTSTART:20160124T110000
LAST-MODIFIED:20151107T170400Z
LOCATION:Coburg\, Kino Utopolis
SUMMARY:Eisenhans
X-IMAGE:http://www.region-coburg.tv/images/medium/vhs-film-1276db0f.jpg
END:VEVENT
END:VCALENDAR
