BEGIN:VCALENDAR
METHOD:PUBLISH
PRODID:-//3557@www.region-coburg.tv//NONSGML iCalcreator 2.4.3//
VERSION:2.0
BEGIN:VEVENT
UID:3557-20160113201500-20160113000000@www.region-coburg.tv
DTSTAMP:20260419T213554Z
CONTACT:09561 / 239051
CREATED:20151107T170200Z
DESCRIPTION:1957 liegt der Nationalsozialismus hinter Deutschland\, doch al
 l jene\, die unter Hitler furchtbare Verbrechen begingen\, sind noch läng
 st nicht gefasst. Der hessische Generalstaatsanwalt Fritz Bauer beschäfti
 gt sich mit der Aufklärung der damaligen Schreckenstaten. Das Justizdrama
  von Lars Kraume erhielt im August 2015 auf dem 68. Internationalen Filmfe
 stival von Locarno den Publikumspreis.VHS-Film der Woche\, Deutschland 201
 5 - Tickets: 09561 / 239051
DTEND:20160113T000000
DTSTART:20160113T201500
LAST-MODIFIED:20151107T170200Z
LOCATION:Coburg\, Kino Utopolis
SUMMARY:Der Staat gegen Fritz Bauer
X-IMAGE:http://www.region-coburg.tv/images/medium/vhs-film-1276db0f.jpg
END:VEVENT
END:VCALENDAR
