BEGIN:VCALENDAR
METHOD:PUBLISH
PRODID:-//3556@www.region-coburg.tv//NONSGML iCalcreator 2.4.3//
VERSION:2.0
BEGIN:VEVENT
UID:3556-20160106201500-20160106000000@www.region-coburg.tv
DTSTAMP:20260419T213621Z
CONTACT:09561 / 239051
CREATED:20151107T170000Z
DESCRIPTION:Der angesehene Illusionist Stanley wird in den 1920er Jahren an
  die Côte d’Azur beordert\, um dort einen Schwindel aufzudecken: An der
  französischen Mittelmeerküste treibt die vermeintliche Wahrsagerin Soph
 ie ihr Unwesen und zieht mit ihren Prophezeiungen den Reichen und Schönen
  das Geld aus den Taschen. Um den mysteriösen Fall zu lösen\, stürzt si
 ch der englische Gentleman in das ausschweifende Leben der dekadenten Ober
 schicht. Neben dem Luxus und den exzessiven Partys mit jeder Menge Jazzmus
 ik ist es vor allem die attraktive Hellseherin\, die Stanley zunehmend den
  Kopf verdreht. Als sich Sophie und Stanley langsam näherkommen\, beginnt
  sogar der Meisterillusionist selbst daran zu zweifeln\, dass die junge Da
 me eine Betrügerin ist…VHS-Film der Woche\, USA 2014 - Tickets: 09561 /
  239051
DTEND:20160106T000000
DTSTART:20160106T201500
LAST-MODIFIED:20151107T170000Z
LOCATION:Coburg\, Kino Utopolis
SUMMARY:Magic in the Moonlight
X-IMAGE:http://www.region-coburg.tv/images/medium/vhs-film-1276db0f.jpg
END:VEVENT
END:VCALENDAR
