BEGIN:VCALENDAR
METHOD:PUBLISH
PRODID:-//3555@www.region-coburg.tv//NONSGML iCalcreator 2.4.3//
VERSION:2.0
BEGIN:VEVENT
UID:3555-20151229201500-20151229000000@www.region-coburg.tv
DTSTAMP:20260419T194257Z
CONTACT:09561 / 239051
CREATED:20151107T165800Z
DESCRIPTION:Er ist ein Schwätzer und aufdringlicher Schleimer: Sebastian Z
 öllner hält sich für ein verkanntes Genie und will die Welt durch eine 
 Biografie über den legendären Maler Manuel Kaminski von seiner Bedeutung
  überzeugen. Deshalb sucht er den greisen Künstler in dessen Alpenchalet
  auf\, um dem angeblich erblindeten Maler Geheimnisse seiner Vergangenheit
  zu entlocken. Dass der betagte Kaminski wohl bald sterben wird\, kalkulie
 rt der parasitäre Zöllner als verkaufsförderndes Argument ein. Doch der
  alte Mann durchschaut das Vorhaben des jungen Schnösels und spannt ihn s
 einerseits für seine Zwecke ein. Eine intelligente\, höchst vergnüglich
 e Satire auf die Großmäuligkeit und Prahlsucht des Kulturbetriebs.VHS-Fi
 lm der Woche\, Deutschland/Belgien 2015 - Tickets: 09561 / 239051
DTEND:20151229T000000
DTSTART:20151229T201500
LAST-MODIFIED:20151107T165800Z
LOCATION:Coburg\, Kino Utopolis
SUMMARY:Ich und Kaminski
X-IMAGE:http://www.region-coburg.tv/images/medium/vhs-film-1276db0f.jpg
END:VEVENT
END:VCALENDAR
