BEGIN:VCALENDAR
METHOD:PUBLISH
PRODID:-//3554@www.region-coburg.tv//NONSGML iCalcreator 2.4.3//
VERSION:2.0
BEGIN:VEVENT
UID:3554-20151223201500-20151223000000@www.region-coburg.tv
DTSTAMP:20260419T194338Z
CONTACT:09561 / 239051
CREATED:20151107T165600Z
DESCRIPTION:Die Wirtschaftskrise\, oder vielleicht genauer: die „Krise de
 s Kapitalismus“ ist international. Deshalb kann Regisseur Paolo Vizi ohn
 e Probleme die Handlung des Romans „Der Sündenfall“ des Amerikaners S
 tephen Amidon nach Italien verlegen. Die Deformierung der Figuren durch de
 n Finanzkapitalismus bleibt die Gleiche. „Die süße Gier“ war in Ital
 ien ein großer Publikumserfolg mit mehr als einer Million Zuschauer und w
 ird das Land bei den Academy Awards 2015 vertreten.VHS-Film der Woche\, It
 alien/Frankreich 2013 - Tickets: 09561 / 239051
DTEND:20151223T000000
DTSTART:20151223T201500
LAST-MODIFIED:20151107T165600Z
LOCATION:Coburg\, Kino Utopolis
SUMMARY:Die süße Gier
X-IMAGE:http://www.region-coburg.tv/images/medium/vhs-film-1276db0f.jpg
END:VEVENT
END:VCALENDAR
