BEGIN:VCALENDAR
METHOD:PUBLISH
PRODID:-//3553@www.region-coburg.tv//NONSGML iCalcreator 2.4.3//
VERSION:2.0
BEGIN:VEVENT
UID:3553-20151215201500-20151215000000@www.region-coburg.tv
DTSTAMP:20260419T194257Z
CONTACT:09561 / 239051
CREATED:20151107T165400Z
DESCRIPTION:Kate und Geoff sind gerade dabei\, sich auf ihren 45. Hochzeits
 tag vorzubereiten\, den sie mit einem großen Fest feiern wollen\, als ein
  Brief aus der Schweiz für Verwirrung und Unruhe sorgt. Vor 50 Jahren ist
  Geoffs damalige Freundin Katja bei einer Wanderung in den Alpen in eine G
 letscherspalte gestürzt. Doch erst jetzt\, nachdem das Eis geschmolzen is
 t\, wurde ihre Leiche gefunden. Kate hat von dieser Beziehung nichts geahn
 t. Als sie erfährt\, dass Katja schwanger war\, beginnt sie\, ihre Ehe in
 frage zu stellen: Kann es sein\, dass sie all die Jahre nur zweite Wahl wa
 r?VHS-Film der Woche\, Großbritannien 2015 - Tickets: 09561 / 239051
DTEND:20151215T000000
DTSTART:20151215T201500
LAST-MODIFIED:20151107T165400Z
LOCATION:Coburg\, Kino Utopolis
SUMMARY:45 Years
X-IMAGE:http://www.region-coburg.tv/images/medium/vhs-film-1276db0f.jpg
END:VEVENT
END:VCALENDAR
