BEGIN:VCALENDAR
METHOD:PUBLISH
PRODID:-//3552@www.region-coburg.tv//NONSGML iCalcreator 2.4.3//
VERSION:2.0
BEGIN:VEVENT
UID:3552-20151208201500-20151208000000@www.region-coburg.tv
DTSTAMP:20260419T194424Z
CONTACT:09561 / 239051
CREATED:20151107T165300Z
DESCRIPTION:Der Schauspieler James Dean ist seit seinem Tod im Jahr 1955 bi
 s heute eine Kultfigur. Life durchleuchtet James Deans Beziehung zu dem Fo
 tografen Dennis Stock\, der ihn in seinem Todesjahr 1955 auf einer Party k
 ennenlernt. Stock ist sofort fasziniert von dem jungen Ausnahmetalent und 
 hofft\, durch ihn seine eigene Karriere voranzutreiben. Die beiden machen 
 eine gemeinsame Reise quer durch die USA\, wo Dennis Stock eine weltberüh
 mte Aufnahme von James Dean schoss.VHS-Film der Woche\, Großbritannien 20
 15 - Tickets: 09561 / 239051
DTEND:20151208T000000
DTSTART:20151208T201500
LAST-MODIFIED:20151107T165300Z
LOCATION:Coburg\, Kino Utopolis
SUMMARY:Life
X-IMAGE:http://www.region-coburg.tv/images/medium/vhs-film-1276db0f.jpg
END:VEVENT
END:VCALENDAR
