BEGIN:VCALENDAR
METHOD:PUBLISH
PRODID:-//3551@www.region-coburg.tv//NONSGML iCalcreator 2.4.3//
VERSION:2.0
BEGIN:VEVENT
UID:3551-20151202201500-20151202000000@www.region-coburg.tv
DTSTAMP:20260419T194542Z
CONTACT:09561 / 239051
CREATED:20151107T165100Z
DESCRIPTION:Älterwerden ist nichts für Feiglinge. Als ein gut situiertes 
 New Yorker Künstlerehepaar ein junges Hipster-Pärchen kennenlernt\, stel
 len beide ihren bisherigen\, vermeintlich spießigen Alltag in Frage. Auf 
 einmal fühlen sich die Mittvierziger wieder wie Mitte Zwanzig\, was bei i
 hren alten Freunden doch so manche Irritation auslöst.VHS-Film der Woche\
 , USA 2014 - Tickets: 09561 / 239051
DTEND:20151202T000000
DTSTART:20151202T201500
LAST-MODIFIED:20151107T165100Z
LOCATION:Coburg\, Kino Utopolis
SUMMARY:Gefühlt Mitte Zwanzig
X-IMAGE:http://www.region-coburg.tv/images/medium/vhs-film-1276db0f.jpg
END:VEVENT
END:VCALENDAR
