BEGIN:VCALENDAR
METHOD:PUBLISH
PRODID:-//3550@www.region-coburg.tv//NONSGML iCalcreator 2.4.3//
VERSION:2.0
BEGIN:VEVENT
UID:3550-20151124201500-20151124000000@www.region-coburg.tv
DTSTAMP:20260419T194604Z
CONTACT:09561 / 239051
CREATED:20151107T115200Z
DESCRIPTION:DokumentarfilmAmy Winehouse war eine waschechte Ausnahmekünstl
 erin. Mit persönlichen Songtexten\, die sie mit ihrer charakteristischen 
 Soulstimme zum Leben erweckte\, begeisterte und berührte die Britin eine 
 weltweite Fangemeinde. Sie verkaufte mehrere Millionen Platten und gewann 
 sechs Grammys. Aber ihre kometenhafte Karriere war nur von kurzer Dauer\, 
 schließlich sind ihr die Drogen zum Verhängnis geworden: Im Alter von ge
 rade einmal 27 Jahren starb Winehouse an einer Alkoholvergiftung. VHS-Film
  der Woche\, Großbritannien 2014 - Tickets: 09561 / 239051
DTEND:20151124T000000
DTSTART:20151124T201500
LAST-MODIFIED:20151107T115200Z
LOCATION:Coburg\, Kino Utopolis
SUMMARY:Amy
X-IMAGE:http://www.region-coburg.tv/images/medium/vhs-film-1276db0f.jpg
END:VEVENT
END:VCALENDAR
