BEGIN:VCALENDAR
METHOD:PUBLISH
PRODID:-//3549@www.region-coburg.tv//NONSGML iCalcreator 2.4.3//
VERSION:2.0
BEGIN:VEVENT
UID:3549-20151117201500-20151117000000@www.region-coburg.tv
DTSTAMP:20260419T175946Z
CONTACT:09561 / 239051
CREATED:20151107T115000Z
DESCRIPTION:Die britische Forscherin Gertrude Bell spielte eine nachhaltige
  Rolle für die politische Ordnung des Nahen Ostens sowohl während als au
 ch nach dem Ersten Weltkrieg. Indem sie die Interessen der von ihr untersc
 hätzten Schiiten verletzte\, provozierte sie unfreiwillig Begehrlichkeite
 n\, die auch in der Gegenwart noch für Ärger\, Chaos und Krieg sorgen.We
 rner Herzog setzt dieser starken Persönlichkeit ein filmisches Denkmal\, 
 wobei ihn das schwierige politische Erbe seiner Protagonistin nur in zweit
 er Linie interessiert. Vielmehr ist das bildgewaltige Historien-Drama eine
  weitere Charakterstudie einer außergewöhnlichen Persönlichkeit: ein Ge
 mälde in Bewegung mit ganz eigenem Ton und einem Schuss Wahnsinn – ein 
 typischer Herzog eben. VHS-Film der Woche\, USA / Marokko 2015 - Tickets:
  09561 / 239051
DTEND:20151117T000000
DTSTART:20151117T201500
LAST-MODIFIED:20151107T115000Z
LOCATION:Coburg\, Kino Utopolis
SUMMARY:Königin der Wüste
X-IMAGE:http://www.region-coburg.tv/images/medium/vhs-film-1276db0f.jpg
END:VEVENT
END:VCALENDAR
