BEGIN:VCALENDAR
METHOD:PUBLISH
PRODID:-//3548@www.region-coburg.tv//NONSGML iCalcreator 2.4.3//
VERSION:2.0
BEGIN:VEVENT
UID:3548-20151110201500-20151110000000@www.region-coburg.tv
DTSTAMP:20260419T175946Z
CONTACT:09561 / 239051
CREATED:20151107T114900Z
DESCRIPTION:Wild Tales - Jeder dreht mal durchDer argentinische Ensemble- u
 nd Episodenfilm Wild Tales von Damián Szifron folgt Figuren\, die auf dem
  schmalen Grat zwischen Zivilisation und Barbarei wandeln. Die sechs Gesch
 ichten\, die in Buenos Aires und Umgebung spielen\, handeln von Liebesbetr
 ug\, der Last der Vergangenheit\, Tragödien\, alltäglicher Gewalt und me
 nschlichen Abgründen sowie von einer nicht zu leugnenden Lust\, die Kontr
 olle zu verlieren.Der Film lief 2014 im Wettbewerb der Filmfestspiele von 
 Cannes und wurde im Januar 2015 mit einer Nominierung für einen Oscar in 
 der Kategorie „Bester fremdsprachiger Film“ bedacht.VHS-Film der Woche
 \, Spanien / Argentinien 2014 - Tickets: 09561 / 239051
DTEND:20151110T000000
DTSTART:20151110T201500
LAST-MODIFIED:20151107T114900Z
LOCATION:Coburg\, Kino Utopolis
SUMMARY:Wild Tales
X-IMAGE:http://www.region-coburg.tv/images/medium/vhs-film-1276db0f.jpg
END:VEVENT
END:VCALENDAR
