BEGIN:VCALENDAR
METHOD:PUBLISH
PRODID:-//3545@www.region-coburg.tv//NONSGML iCalcreator 2.4.3//
VERSION:2.0
BEGIN:VEVENT
UID:3545-20151113200000-20151113000000@www.region-coburg.tv
DTSTAMP:20260419T194139Z
CONTACT:09561 / 80870
CREATED:20151102T202500Z
DESCRIPTION:Lesung im Modehaus: Wolfgang Hohlbein 'Mörderhotel'230 Mensche
 n gehen auf sein Konto. Der Serienmörder Herman Webster Mudgett errichtet
 e in Chicago eigens ein Hotel\, um seine grausamen Taten zu begehen. Ein H
 otel\, in dem es Falltüren\, geheime Räume und Gänge\, ein Säurebad un
 d einen Foltertisch gab. Kalte Schauer und Gänsehaut stellen sich ein\, w
 enn Wolfgang Hohlbein aus seinem neuesten Thriller 'Mörderhotel' liest. V
 eranstaltungsort sind am Freitag\, den 13. November die verlassenen Räuml
 ichkeiten von „Matzer & Worsch“ in Coburg. - Tickets: 09561 / 80870
DTEND:20151113T000000
DTSTART:20151113T200000
LAST-MODIFIED:20151102T202500Z
LOCATION:Modehaus Matzer & Worsch
SUMMARY:Wolfgang Hohlbein
X-IMAGE:http://www.region-coburg.tv/images/medium/hohlbein-vh-60e4de22.jpg
END:VEVENT
END:VCALENDAR
