BEGIN:VCALENDAR
METHOD:PUBLISH
PRODID:-//3541@www.region-coburg.tv//NONSGML iCalcreator 2.4.3//
VERSION:2.0
BEGIN:VEVENT
UID:3541-20151107203000-20151107000000@www.region-coburg.tv
DTSTAMP:20260419T181058Z
CREATED:20151030T193900Z
DESCRIPTION:Live und handgemacht: „9. NP-Kneipennacht'„Alles live und h
 andgemacht“ heißt es auch in diesem Jahr bei der 9. Coburger Kneipennac
 ht. Die große Party steigt am Samstag\, den 07. November mit 19 Bands in 
 15 Locations. Neu dabei ist das „Wooloomoloo“\, das „Fame“ und nac
 h einer Pause auch wieder das „Münchner Hofbräu\, ansonsten: Musik und
  Party an allen Ecken.
DTEND:20151107T000000
DTSTART:20151107T203000
LAST-MODIFIED:20151030T193900Z
LOCATION:Courger Innenstadt
SUMMARY:9. NP-Kneipennacht
X-IMAGE:http://www.region-coburg.tv/images/medium/np-kneipen-18b9b303.jpg
END:VEVENT
END:VCALENDAR
