BEGIN:VCALENDAR
METHOD:PUBLISH
PRODID:-//3505@www.region-coburg.tv//NONSGML iCalcreator 2.4.3//
VERSION:2.0
BEGIN:VEVENT
UID:3505-20151023190000-20151023000000@www.region-coburg.tv
DTSTAMP:20260419T180222Z
CONTACT:09561 / 234923
CREATED:20151016T182300Z
DESCRIPTION:„Des alta Gebrügg ghört ougerissen'Tradition\, Brauchtum un
 d Heimatgeschichte - auf Einladung der Altstadtfreunde Coburg führt die R
 ödentaler Mundartdichterin Anneliese Hübner durch das typische Coburg. I
 hre Lesung mit Musik „Des alta Gebrügg ghört ougerissen“ (oder so ä
 hnlich) findet am Freitag\, den 23. Oktober im Münchner Hofbräu statt. -
  Tickets: 09561 / 234923
DTEND:20151023T000000
DTSTART:20151023T190000
LAST-MODIFIED:20151016T182300Z
LOCATION:Münchner Hofbräu
SUMMARY:Anneliese Hübner
X-IMAGE:http://www.region-coburg.tv/images/medium/huebner-vh-2650d2f8.jpg
END:VEVENT
END:VCALENDAR
