BEGIN:VCALENDAR
METHOD:PUBLISH
PRODID:-//3504@www.region-coburg.tv//NONSGML iCalcreator 2.4.3//
VERSION:2.0
BEGIN:VEVENT
UID:3504-20151019200000-20151019000000@www.region-coburg.tv
DTSTAMP:20260419T175802Z
CONTACT:09561 / 234931
CREATED:20151016T181900Z
DESCRIPTION:Klaus Modick liest: „Konzert ohne Dichter'„Konzert ohne Dic
 hter“ heißt der neue Bestseller-Roman von Klaus Modick\, eine „Chroni
 que scandaleuse“ der Künstlerkolonie Worpswede um 1900. Erzählt wird d
 ie Entstehungsgeschichte eines berühmten Worpsweder Gemäldes und von der
  schwierigen Künstlerfreundschaft zwischen dem Maler Heinrich Vogeler und
  Rainer Maria Rilke. Die Lesung findet am Montag\, den 19. Oktober im Kuns
 tverein Coburg statt. - Tickets: 09561 / 234931
DTEND:20151019T000000
DTSTART:20151019T200000
LAST-MODIFIED:20151016T181900Z
LOCATION:Pavillon Kunstverein
SUMMARY:Klaus Modick
X-IMAGE:http://www.region-coburg.tv/images/medium/modick-vh-ad82fc04.jpg
END:VEVENT
END:VCALENDAR
