BEGIN:VCALENDAR
METHOD:PUBLISH
PRODID:-//3499@www.region-coburg.tv//NONSGML iCalcreator 2.4.3//
VERSION:2.0
BEGIN:VEVENT
UID:3499-20151016193000-20151016000000@www.region-coburg.tv
DTSTAMP:20260419T162109Z
CONTACT:09568 / 81-136
CREATED:20151005T200300Z
DESCRIPTION:Über Bücher plaudern: „Literatur im Duett'Zwei Damen\, Regi
 ne Blümig und Brigitte Rößler-Reuß\, gestalten am Freitag\, den 16. Ok
 tober „Literatur im Duett“. In der Stadtbücherei Neustadt plaudern si
 e über vergnügliche\, kriminelle und nachdenkliche Literatur. Musikalisc
 h werden sie dabei von Anja Schubert unterstützt. - Tickets: 09568 / 81-1
 36
DTEND:20151016T000000
DTSTART:20151016T193000
LAST-MODIFIED:20151005T200300Z
LOCATION:Stadtbücherei Neustadt
SUMMARY:Literatur im Duett
X-IMAGE:http://www.region-coburg.tv/images/medium/literatur-duett-45de138f.
 jpg
END:VEVENT
END:VCALENDAR
