BEGIN:VCALENDAR
METHOD:PUBLISH
PRODID:-//3481@www.region-coburg.tv//NONSGML iCalcreator 2.4.3//
VERSION:2.0
BEGIN:VEVENT
UID:3481-20150912000000-20150912000000@www.region-coburg.tv
DTSTAMP:20260419T144341Z
CONTACT:Regionaler Vorverkauf
CREATED:20150903T184500Z
DESCRIPTION:Coburgs schönste Nacht lockt mit starken FrauenKein anderer An
 lass öffnet in Coburg so viele wunderbare Räume\, rückt so viel Altes i
 n neues Licht\, lockt mit so viel Kunstgenuss und zauberhaften Klängen so
 lche Scharen von Nachtschwärmern an. Kein Wunder\, dass sie für viele ga
 nz einfach 'Coburgs schönste Nacht' ist.Am 12. September ist es wieder so
 weit. Und wieder einmal ganz anders: 'Starke Frauen' – diesem Motto der 
 11. Coburger Museumsnacht ist neben Ausstellungen\, Installationen und Pro
 jektionen vor allem ein außergewöhnliches Musikprogramm gewidmet. Von Be
 lgien bis zum Balkan\, von Norwegen bis nach Niederösterreich reicht die 
 Herkunft der Künstlerinnen\, die auf der Route zwischen Rathaussaal und B
 urghof zu hören sein werden.Weitere Informationen - Tickets: Regionaler V
 orverkauf
DTEND;VALUE=DATE:20150913
DTSTART;VALUE=DATE:20150912
LAST-MODIFIED:20150903T184500Z
LOCATION:Coburg Innenstadt
SUMMARY:Nacht der Kontraste
X-IMAGE:http://www.region-coburg.tv/images/medium/museumsnacht-a69731b6.jpg
END:VEVENT
END:VCALENDAR
