BEGIN:VCALENDAR
METHOD:PUBLISH
PRODID:-//3479@www.region-coburg.tv//NONSGML iCalcreator 2.4.3//
VERSION:2.0
BEGIN:VEVENT
UID:3479-20151104201500-20151104000000@www.region-coburg.tv
DTSTAMP:20260419T180247Z
CONTACT:09561 / 239051
CREATED:20150903T155800Z
DESCRIPTION:Ausgerechnet Belgien! Was soll es dort schon geben - außer Pom
 mes und Pralinen? Doch Hannes und seine Frau Kiki bestimmen in diesem Jahr
 \, wohin die jährliche Radtour mit ihren engsten Freunden gehen soll. Als
 o startet die Gruppe voller Abenteuerlust\, denn alles was zählt\, ist sc
 hließlich die Zeit miteinander.Erst unterwegs erfahren die Freunde\, dass
  Hannes an einer unheilbaren Nervenkrankheit leidet. Diese Reise soll sein
 e letzte sein. Die Gruppe reagiert zunächst geschockt und ratlos\, doch d
 ann beginnt eine wilde\, einzigartige Tour - denn durch Hannes erkennen di
 e Freunde\, wie kostbar das Leben wirklich ist ...VHS-Film der Woche\, Deu
 tschland 2014 - Tickets: 09561 / 239051
DTEND:20151104T000000
DTSTART:20151104T201500
LAST-MODIFIED:20150903T155800Z
LOCATION:Coburg\, Kino Utopolis
SUMMARY:Hin und weg
X-IMAGE:http://www.region-coburg.tv/images/medium/vhs-film-1276db0f.jpg
END:VEVENT
END:VCALENDAR
