BEGIN:VCALENDAR
METHOD:PUBLISH
PRODID:-//3478@www.region-coburg.tv//NONSGML iCalcreator 2.4.3//
VERSION:2.0
BEGIN:VEVENT
UID:3478-20151027201500-20151027000000@www.region-coburg.tv
DTSTAMP:20260419T194424Z
CONTACT:09561 / 239051
CREATED:20150903T155500Z
DESCRIPTION:Alle 12 Jahre pilgern bis zu 100 Millionen Gläubige an den Zus
 ammenfluss von Ganges\, Yamuna und - dem unsichtbaren\, mythischen Fluss -
  Saraswati\, um sich in einem Bad von ihren Sünden zu reinigen und sich a
 us dem Kreislauf der Wiedergeburt zu befreien. Es ist die Zeit der Kumbh M
 ela\, des größten Festes der Welt\, eines der spektakulärsten und beein
 druckendsten Ereignisse\, denen man beiwohnen kann.Regisseur Pan Nalin ist
  2013 zur Kumbh Mela gereist\, und erzählt in 'An den Ufern der heiligen 
 Flüsse' bewegende Geschichten seiner Erlebnisse - etwa von einem Kind\, d
 as seinem Elternhaus entflohen ist\, von einer Mutter\, die verzweifelt ih
 ren verlorenen Sohn sucht\, von einem indischen Mönch\, von einem Yogi\, 
 der ein ausgesetztes Kind aufzieht\, und von einem Asket\, der seine inner
 e Ruhe durch den Genuss von Cannabis findet ...VHS-Film der Woche\, Frankr
 eich / Indien 2013 - Tickets: 09561 / 239051
DTEND:20151027T000000
DTSTART:20151027T201500
LAST-MODIFIED:20150903T155500Z
LOCATION:Coburg\, Kino Utopolis
SUMMARY:An den Ufern der heiligen Flüsse
X-IMAGE:http://www.region-coburg.tv/images/medium/vhs-film-1276db0f.jpg
END:VEVENT
END:VCALENDAR
