BEGIN:VCALENDAR
METHOD:PUBLISH
PRODID:-//3477@www.region-coburg.tv//NONSGML iCalcreator 2.4.3//
VERSION:2.0
BEGIN:VEVENT
UID:3477-20151020201500-20151020000000@www.region-coburg.tv
DTSTAMP:20260419T161558Z
CONTACT:09561 / 239051
CREATED:20150903T155200Z
DESCRIPTION:Eine Stunde noch\, dann neigt sich auch diese Nacht in Berlin w
 ieder dem Ende zu. Vor einem Club lernt Victoria (Laia Costa)\, eine junge
  Frau aus Madrid\, vier Berliner Jungs kennen - Sonne (Frederick Lau)\, Bo
 xer (Franz Rogowski)\, Blinker (Burak Yigit) und Fuß (Max Mauff).Der Funk
 e zwischen ihr und Sonne springt sofort über\, aber Zeit füreinander hab
 en die beiden nicht. Sonne und seine Kumpels haben noch etwas vor. Um eine
  Schuld zu begleichen\, haben sie sich auf eine krumme Sache eingelassen .
 ..VHS-Film der Woche\, Deutschland 2015 - Tickets: 09561 / 239051
DTEND:20151020T000000
DTSTART:20151020T201500
LAST-MODIFIED:20150903T155200Z
LOCATION:Coburg\, Kino Utopolis
SUMMARY:Victoria
X-IMAGE:http://www.region-coburg.tv/images/medium/vhs-film-1276db0f.jpg
END:VEVENT
END:VCALENDAR
