BEGIN:VCALENDAR
METHOD:PUBLISH
PRODID:-//3476@www.region-coburg.tv//NONSGML iCalcreator 2.4.3//
VERSION:2.0
BEGIN:VEVENT
UID:3476-20151014201500-20151014000000@www.region-coburg.tv
DTSTAMP:20260419T175807Z
CONTACT:09561 / 239051
CREATED:20150903T155100Z
DESCRIPTION:Die Geschichte einer ganz besonderen Liebe: Arnaud trifft in se
 inen Sommerferien auf Madeleine\, die so ganz anders ist als er. Während 
 er das Leben locker nimmt und einfach abhängen will\, zieht sie ein harte
 s Überlebenstraining durch\, da sie fest davon überzeugt ist\, dass der 
 Weltuntergang kurz bevorsteht. Sie ist schroff\, unbeirrbar und fasziniere
 nd.Bevor Arnaud weiß\, wie ihm geschieht\, hat er sich zusammen mit Madel
 eine beim großen Survival-Training angemeldet. Und bekanntlich ziehen sic
 h Gegensätze an ...VHS-Film der Woche\, Frankreich 2014 - Tickets: 09561 
 / 239051
DTEND:20151014T000000
DTSTART:20151014T201500
LAST-MODIFIED:20150903T155100Z
LOCATION:Coburg\, Kino Utopolis
SUMMARY:Liebe auf den ersten Schlag
X-IMAGE:http://www.region-coburg.tv/images/medium/vhs-film-1276db0f.jpg
END:VEVENT
END:VCALENDAR
