BEGIN:VCALENDAR
METHOD:PUBLISH
PRODID:-//3475@www.region-coburg.tv//NONSGML iCalcreator 2.4.3//
VERSION:2.0
BEGIN:VEVENT
UID:3475-20151007201500-20151007000000@www.region-coburg.tv
DTSTAMP:20260419T162048Z
CONTACT:09561 / 239051
CREATED:20150903T154900Z
DESCRIPTION:Der 19-jährige Jazz-Schlagzeuger Andrew Neiman (Miles Teller) 
 träumt von einer großen Karriere. Nach dem Scheitern der Schriftsteller-
 Laufbahn seines Vaters ist er fest entschlossen\, sich durchzukämpfen und
  es auf dem renommiertesten Musikkonservatorium des Landes ganz nach oben 
 zu schaffen.Eines Nachts entdeckt der für seine Qualitäten als Lehrer eb
 enso wie für seine rabiaten Unterrichtsmethoden bekannte Band-Leiter Tere
 nce Fletcher (J.K. Simmons) den jungen Drummer beim Üben. Wenngleich Flet
 cher in diesem Moment nur wenige Worte verliert\, entfacht er in Andrew ei
 ne glühende Entschlossenheit. Zu dessen Überraschung veranlasst der Lehr
 er am nächsten Tag\, dass der begabte junge Mann ab sofort in seiner Grup
 pe spielt - ein Schritt\, welcher Andrews Leben für immer verändern wird
  ...VHS-Film der Woche\, USA 2014 - Tickets: 09561 / 239051
DTEND:20151007T000000
DTSTART:20151007T201500
LAST-MODIFIED:20150903T154900Z
LOCATION:Coburg\, Kino Utopolis
SUMMARY:Whiplash
X-IMAGE:http://www.region-coburg.tv/images/medium/vhs-film-1276db0f.jpg
END:VEVENT
END:VCALENDAR
