BEGIN:VCALENDAR
METHOD:PUBLISH
PRODID:-//3474@www.region-coburg.tv//NONSGML iCalcreator 2.4.3//
VERSION:2.0
BEGIN:VEVENT
UID:3474-20150930201500-20150930000000@www.region-coburg.tv
DTSTAMP:20260419T162258Z
CONTACT:09561 / 239051
CREATED:20150903T154600Z
DESCRIPTION:Claire und Laura sind beste Freundinnen seit Kindertagen. Doch 
 ihre Freundschaft findet ein jähes Ende\, als Laura überraschend stirbt.
  Sie hinterlässt ein Baby und ihren Ehemann David. Als Claire den Witwer 
 unangemeldet besucht\, erwischt sie ihn in Lauras Kleidern - dem Baby die 
 Flasche gebend. Anfangs verstört von der Verwandlung findet Claire in Dav
 id schon bald eine neue Freundin ...VHS-Film der Woche\, Frankreich 2014 -
  Tickets: 09561 / 239051
DTEND:20150930T000000
DTSTART:20150930T201500
LAST-MODIFIED:20150903T154600Z
LOCATION:Coburg\, Kino Utopolis
SUMMARY:Eine neue Freundin
X-IMAGE:http://www.region-coburg.tv/images/medium/vhs-film-1276db0f.jpg
END:VEVENT
END:VCALENDAR
