BEGIN:VCALENDAR
METHOD:PUBLISH
PRODID:-//3473@www.region-coburg.tv//NONSGML iCalcreator 2.4.3//
VERSION:2.0
BEGIN:VEVENT
UID:3473-20150929201500-20150929000000@www.region-coburg.tv
DTSTAMP:20260419T174808Z
CONTACT:09561 / 239051
CREATED:20150903T154300Z
DESCRIPTION:Laure (Zoé Héran) trägt ihre Hosen am liebsten weit und die 
 Haare kurz. Wie ein Mädchen sieht sie nicht aus und möchte am liebsten k
 eins sein - Laure ist ein Tomboy. Als sie mit ihren Eltern umzieht\, nutzt
  sie ihre Chance und stellt sich ihren neuen Freunden als Michael vor.Gesc
 hickt hält sie ihr intimes Abenteuer vor den Eltern geheim. Für ihre Fam
 ilie bleibt sie Laure\, doch für die anderen Kinder ist sie Michael\, der
  rauft\, Fußball spielt\, und in den sich die hübsche Lisa (Jeanne Disso
 n) verliebt. Laure kostet ihre neue Identität aus\, als ob der Sommer ewi
 g so weitergehen könnte ...VHS-Film der Woche\, Frankreich 2011 - Tickets
 : 09561 / 239051
DTEND:20150929T000000
DTSTART:20150929T201500
LAST-MODIFIED:20150903T154300Z
LOCATION:Coburg\, Kino Utopolis
SUMMARY:Tomboy
X-IMAGE:http://www.region-coburg.tv/images/medium/vhs-film-1276db0f.jpg
END:VEVENT
END:VCALENDAR
