BEGIN:VCALENDAR
METHOD:PUBLISH
PRODID:-//3472@www.region-coburg.tv//NONSGML iCalcreator 2.4.3//
VERSION:2.0
BEGIN:VEVENT
UID:3472-20150923201500-20150923000000@www.region-coburg.tv
DTSTAMP:20260419T175803Z
CONTACT:09561 / 239051
CREATED:20150903T154000Z
DESCRIPTION:DokumentarfilmIm Januar 2013 erhielt die amerikanische Dokument
 arfilmerin Laura Poitras\, die mit kritischen Filmen über den Irak-Krieg 
 und das US-Gefangenenlager Guantànamo bekannt wurde\, erstmals verschlüs
 selte Emails von einem gewissen 'Citizenfour'.Deren Inhalt war brisant. Es
  ging um Beweise für die maßlose Überwachung durch die NSA. Fünf Monat
 e später reiste Poitras mit dem Journalisten Glenn Greenwald nach Hongkon
 g und traf dort einen jungen Mann: Edward Snowden. Der Rest ist Geschichte
 .VHS-Film der Woche\, USA 2014 - Tickets: 09561 / 239051
DTEND:20150923T000000
DTSTART:20150923T201500
LAST-MODIFIED:20150903T154000Z
LOCATION:Coburg\, Kino Utopolis
SUMMARY:Citizenfour
X-IMAGE:http://www.region-coburg.tv/images/medium/vhs-film-1276db0f.jpg
END:VEVENT
END:VCALENDAR
