BEGIN:VCALENDAR
METHOD:PUBLISH
PRODID:-//3471@www.region-coburg.tv//NONSGML iCalcreator 2.4.3//
VERSION:2.0
BEGIN:VEVENT
UID:3471-20150916201500-20150916000000@www.region-coburg.tv
DTSTAMP:20260419T144254Z
CONTACT:09561 / 239051
CREATED:20150903T153800Z
DESCRIPTION:'Ernsthaft\, Julien\, wenn ich auf einmal frei wÃ¤re\, kÃ¶nntes
 t du dich dann auch frei machen?' - 'Was sagst Du...?Ein Mann und eine Fra
 u lieben sich heimlich in einem Zimmer\, sie begehren einander\, sie wolle
 n einander und beiÃŸen sich sogar vor Leidenschaft. Danach tauschen sie fÃ
 ¼r einen kurzen Moment noch Nichtigkeiten aus. Auf jeden Fall will das der
  Mann glauben. Doch dann wird er verhaftet\, von der Polizei verhÃ¶rt und 
 findet keine Worte mehr. Was ist passiert? Wessen wird er eigentlich besch
 uldigt?VHS-Film der Woche\, Frankreich 2014 - Tickets: 09561 / 239051
DTEND:20150916T000000
DTSTART:20150916T201500
LAST-MODIFIED:20150903T153800Z
LOCATION:Coburg\, Kino Utopolis
SUMMARY:Das blaue Zimmer
X-IMAGE:http://www.region-coburg.tv/images/medium/vhs-film-1276db0f.jpg
END:VEVENT
END:VCALENDAR
