BEGIN:VCALENDAR
METHOD:PUBLISH
PRODID:-//3470@www.region-coburg.tv//NONSGML iCalcreator 2.4.3//
VERSION:2.0
BEGIN:VEVENT
UID:3470-20150908201500-20150908000000@www.region-coburg.tv
DTSTAMP:20260419T144423Z
CONTACT:09561 / 239051
CREATED:20150903T092600Z
DESCRIPTION:Los Angeles 1970: Der Privatdetektiv und Drogenliebhaber Larry 
 'Doc' Sportello (Joaquin Phoenix) staunt nicht schlecht\, als seine Ex-Fre
 undin Shasta (Katherine Waterston) eines Abends urplötzlich bei ihm auf d
 er Matte steht. Sie erzählt ihm von ihrer Affäre mit dem Milliardär Mic
 key Wolfman (Eric Roberts) und dem Plan von dessen Frau und deren Liebhabe
 r\, den reichen Bauherrn zu entführen und in eine psychiatrische Anstalt 
 zu stecken. Doc soll der verliebten Shasta nun helfen\, dieses Vorhaben zu
  verhindern. Doch kaum hat der Ermittler mit seinen ersten Nachforschungen
  begonnen\, verschwindet Mickey tatsächlich schon spurlos ...VHS-Film der
  Woche\, USA 2014 - Tickets: 09561 / 239051
DTEND:20150908T000000
DTSTART:20150908T201500
LAST-MODIFIED:20150903T092600Z
LOCATION:Coburg\, Kino Utopolis
SUMMARY:Inherent Vice - Natürliche Mängel
X-IMAGE:http://www.region-coburg.tv/images/medium/vhs-film-1276db0f.jpg
END:VEVENT
END:VCALENDAR
