BEGIN:VCALENDAR
METHOD:PUBLISH
PRODID:-//3425@www.region-coburg.tv//NONSGML iCalcreator 2.4.3//
VERSION:2.0
BEGIN:VEVENT
UID:3425-20150722200000-20150722000000@www.region-coburg.tv
DTSTAMP:20260419T144547Z
CONTACT:VVK Buchhandlung Riemann
CREATED:20150714T201700Z
DESCRIPTION:Vorndran liest: „Habakuk'Er zieht wieder alle Register des sc
 hwarzen Humors\, der 53-jährige Frankenkrimi-Autor Helmut Vorndran.  Am 
 22. Juli stellt der Ex-TBC-Kabarettist in der „Alten Schäferei“ in Ah
 orn seinen druckfrischen\, mittlerweile achten Krimi vor: 'Habakuk'. Mit v
 iel Lokalkolorit geht es in der Geschichte um den Konsum von Modedrogen un
 d ein bekifftes Ferkel. Schauplätze bei der verzweifelten Tätersuche in 
 Feuer und Schnee sind diesmal Ebern\, die Haßberge und Bamberg. - Tickets
 : VVK Buchhandlung Riemann
DTEND:20150722T000000
DTSTART:20150722T200000
LAST-MODIFIED:20150714T201700Z
LOCATION:Ahorn\, Alte Schäferei
SUMMARY:Helmut Vorndran
X-IMAGE:http://www.region-coburg.tv/images/medium/vorndran-vh-0c783619.jpg
END:VEVENT
END:VCALENDAR
