BEGIN:VCALENDAR
METHOD:PUBLISH
PRODID:-//3407@www.region-coburg.tv//NONSGML iCalcreator 2.4.3//
VERSION:2.0
BEGIN:VEVENT
UID:3407-20150728201500-20150728000000@www.region-coburg.tv
DTSTAMP:20260419T144032Z
CONTACT:09561 / 239051
CREATED:20150609T195500Z
DESCRIPTION:Erst Hitler\, jetzt Georg Elser - das Dritte Reich lässt Regis
 seur Oliver Hirschbiegel nicht los. Er erzählt die Geschichte des geschei
 terten Attentäters\, die zu Unrecht nicht nur im Ausland\, sondern auch i
 n Deutschland immer noch relativ unbekannt ist. Das Drehbuch stammt von Fr
 ed Breinersdorfer\, der 2005 schon Sophie Scholl zur Kinofigur machte. Neb
 en Christian Friedel in der Titelrolle brilliert Burghart Klaußner als Kr
 ipo-Chef.VHS-Film der Woche\, Deutschland 2015 - Tickets: 09561 / 239051
DTEND:20150728T000000
DTSTART:20150728T201500
LAST-MODIFIED:20150609T195500Z
LOCATION:Coburg\, Kino Utopolis
SUMMARY:Elser - Er hätte die Welt verändert
X-IMAGE:http://www.region-coburg.tv/images/medium/vhs-film-1276db0f.jpg
END:VEVENT
END:VCALENDAR
