BEGIN:VCALENDAR
METHOD:PUBLISH
PRODID:-//3406@www.region-coburg.tv//NONSGML iCalcreator 2.4.3//
VERSION:2.0
BEGIN:VEVENT
UID:3406-20150722201500-20150722000000@www.region-coburg.tv
DTSTAMP:20260419T144202Z
CONTACT:09561 / 239051
CREATED:20150609T195100Z
DESCRIPTION:DokumentarfilmSeit 25 Jahren ist der österreichische Sänger H
 ubert von Goisern aus dem deutschsprachigen Musikgeschäft nicht mehr wegz
 udenken. Zum einen hat er die Ära des Alpenrock eingeläutet\, zum andere
 n lässt er sich keinem musikalischen Genre so richtig zuordnen. Seine Tex
 te stimmen nachdenklich\, seine Melodien prägen sich ein. Dennoch ist üb
 er den Menschen Hubert von Goisern nur wenig bekannt und auch nicht\, was 
 er in den vielen Jahren zwischen seinen Hits 'Koa Hiatamadl' und 'Brenna t
 ua's guat' getan hat.VHS-Film der Woche\, Deutschland/Österreich 2015 - T
 ickets: 09561 / 239051
DTEND:20150722T000000
DTSTART:20150722T201500
LAST-MODIFIED:20150609T195100Z
LOCATION:Coburg\, Kino Utopolis
SUMMARY:Hubert von Goisern
X-IMAGE:http://www.region-coburg.tv/images/medium/vhs-film-1276db0f.jpg
END:VEVENT
END:VCALENDAR
