BEGIN:VCALENDAR
METHOD:PUBLISH
PRODID:-//3405@www.region-coburg.tv//NONSGML iCalcreator 2.4.3//
VERSION:2.0
BEGIN:VEVENT
UID:3405-20150715201500-20150715000000@www.region-coburg.tv
DTSTAMP:20260419T160635Z
CONTACT:09561 / 239051
CREATED:20150609T194900Z
DESCRIPTION:Der Maler William Turner führt um das Jahr 1825 ein bewegtes L
 eben: Neben seiner Kunst der Landschaftsmalerei widmet er sich Reisen\, Bo
 rdellbesuchen und Zusammenkünften mit dem Landadel. Der Künstler kostet 
 seine Freiheiten aus\, an der Londoner Royal Academy of Arts tritt er sehr
  großspurig auf. Er ist alles andere als diplomatisch und mit seinem eige
 nwilligen Verhalten stößt Turner so manches Mitglied der ehrenwerten Ges
 ellschaft vor den Kopf. Und auch im Privatleben ist der Umgang mit dem kau
 zigen Maler überaus schwierig. Er teilt die Wohnung mit seinem Vater Will
 iam und seiner Haushälterin Hannah Danby\, deren innige Zuneigung er scha
 mlos ausnutzt. Als der Vater schließlich stirbt\, gerät William Jr. in e
 ine tiefe künstlerische und persönliche Krise.VHS-Film der Woche\, Groß
 britannien/Deutschland/ Frankreich 2014 - Tickets: 09561 / 239051
DTEND:20150715T000000
DTSTART:20150715T201500
LAST-MODIFIED:20150609T194900Z
LOCATION:Coburg\, Kino Utopolis
SUMMARY:Mr. Turner - Meister des Lichts
X-IMAGE:http://www.region-coburg.tv/images/medium/vhs-film-1276db0f.jpg
END:VEVENT
END:VCALENDAR
